BEGIN:VCALENDAR
VERSION:2.0
PRODID:-//Grace Baptist Church - ECPv6.15.20//NONSGML v1.0//EN
CALSCALE:GREGORIAN
METHOD:PUBLISH
X-WR-CALNAME:Grace Baptist Church
X-ORIGINAL-URL:https://gbcministries.us
X-WR-CALDESC:Events for Grace Baptist Church
REFRESH-INTERVAL;VALUE=DURATION:PT1H
X-Robots-Tag:noindex
X-PUBLISHED-TTL:PT1H
BEGIN:VTIMEZONE
TZID:UTC
BEGIN:STANDARD
TZOFFSETFROM:+0000
TZOFFSETTO:+0000
TZNAME:UTC
DTSTART:20200101T000000
END:STANDARD
END:VTIMEZONE
BEGIN:VEVENT
DTSTART;TZID=UTC:20211208T173000
DTEND;TZID=UTC:20211208T173000
DTSTAMP:20260425T003632
CREATED:20211117T020059Z
LAST-MODIFIED:20211122T202455Z
UID:2315-1638984600-1638984600@gbcministries.us
SUMMARY:Shopping by The GYM
DESCRIPTION:The GYM will meet at WalMart December 8th at 5:30pm.  We will shop for a child in need and then wrap the gifts immediately following at the church.
URL:https://gbcministries.us/event/shopping-by-the-gym/
LOCATION:WalMart
ATTACH;FMTTYPE=image/jpeg:https://gbcministries.us/wp-content/uploads/2021/11/F3A164A1-3B92-45B3-A90E-37A12853C0B3.jpeg
END:VEVENT
END:VCALENDAR