BEGIN:VCALENDAR
VERSION:2.0
PRODID:-//Grace Baptist Church - ECPv6.15.20//NONSGML v1.0//EN
CALSCALE:GREGORIAN
METHOD:PUBLISH
X-ORIGINAL-URL:https://gbcministries.us
X-WR-CALDESC:Events for Grace Baptist Church
REFRESH-INTERVAL;VALUE=DURATION:PT1H
X-Robots-Tag:noindex
X-PUBLISHED-TTL:PT1H
BEGIN:VTIMEZONE
TZID:UTC
BEGIN:STANDARD
TZOFFSETFROM:+0000
TZOFFSETTO:+0000
TZNAME:UTC
DTSTART:20200101T000000
END:STANDARD
END:VTIMEZONE
BEGIN:VEVENT
DTSTART;TZID=UTC:20211213T180000
DTEND;TZID=UTC:20211213T180000
DTSTAMP:20260425T003856
CREATED:20211117T023305Z
LAST-MODIFIED:20211128T033246Z
UID:2320-1639418400-1639418400@gbcministries.us
SUMMARY:Ladies of Grace Christmas Party
DESCRIPTION:This years event event will include a meal\, cookie  swap\, and themed gift basket exchange.  The cookie swap and gift basket exchange is strictly voluntary.  To attend\, the cost is $12.00 per person to cover the price of the meal.  Any lady who wishes to attend or has questions\, please contact Lynn Cooper.  Money for meal will be due by December 5th.
URL:https://gbcministries.us/event/ladies-of-grace-christmas-party/
LOCATION:Grace Fellowship Center\, 518 Elm Avenue\, South Pittsburg\, TN\, 37380
ATTACH;FMTTYPE=image/jpeg:https://gbcministries.us/wp-content/uploads/2021/11/E224F7DF-CBE0-459E-A4DA-25C33C854C35.jpeg
END:VEVENT
END:VCALENDAR