BEGIN:VCALENDAR
VERSION:2.0
PRODID:-//Grace Baptist Church - ECPv6.15.20//NONSGML v1.0//EN
CALSCALE:GREGORIAN
METHOD:PUBLISH
X-ORIGINAL-URL:https://gbcministries.us
X-WR-CALDESC:Events for Grace Baptist Church
REFRESH-INTERVAL;VALUE=DURATION:PT1H
X-Robots-Tag:noindex
X-PUBLISHED-TTL:PT1H
BEGIN:VTIMEZONE
TZID:UTC
BEGIN:STANDARD
TZOFFSETFROM:+0000
TZOFFSETTO:+0000
TZNAME:UTC
DTSTART:20200101T000000
END:STANDARD
END:VTIMEZONE
BEGIN:VEVENT
DTSTART;TZID=UTC:20211219T170000
DTEND;TZID=UTC:20211219T170000
DTSTAMP:20260425T003857
CREATED:20211117T040231Z
LAST-MODIFIED:20211117T040231Z
UID:2329-1639933200-1639933200@gbcministries.us
SUMMARY:Grace Christmas Dinner
DESCRIPTION:We will have our Grace Christmas Dinner on December 19th at 5:00pm.  Bring your favorite Christmas dishes.  Sunday Evening service will follow.
URL:https://gbcministries.us/event/grace-christmas-dinner/
LOCATION:Grace Baptist Church\, 518 Elm Avenue\, South Pittsburg\, TN\, 37380
ATTACH;FMTTYPE=image/jpeg:https://gbcministries.us/wp-content/uploads/2021/11/6CB3C33A-1817-4E80-A98F-82865700A565.jpeg
END:VEVENT
END:VCALENDAR