BEGIN:VCALENDAR
VERSION:2.0
PRODID:-//Grace Baptist Church - ECPv6.15.20//NONSGML v1.0//EN
CALSCALE:GREGORIAN
METHOD:PUBLISH
X-WR-CALNAME:Grace Baptist Church
X-ORIGINAL-URL:https://gbcministries.us
X-WR-CALDESC:Events for Grace Baptist Church
REFRESH-INTERVAL;VALUE=DURATION:PT1H
X-Robots-Tag:noindex
X-PUBLISHED-TTL:PT1H
BEGIN:VTIMEZONE
TZID:UTC
BEGIN:STANDARD
TZOFFSETFROM:+0000
TZOFFSETTO:+0000
TZNAME:UTC
DTSTART:20210101T000000
END:STANDARD
END:VTIMEZONE
BEGIN:VEVENT
DTSTART;TZID=UTC:20220105T183000
DTEND;TZID=UTC:20220105T193000
DTSTAMP:20260424T213650
CREATED:20220104T150828Z
LAST-MODIFIED:20220104T153408Z
UID:2434-1641407400-1641411000@gbcministries.us
SUMMARY:The GYM Mid-Week
DESCRIPTION:
URL:https://gbcministries.us/event/the-gym-mid-week/
LOCATION:Grace Baptist Church\, 518 Elm Avenue\, South Pittsburg\, TN\, 37380
END:VEVENT
BEGIN:VEVENT
DTSTART;TZID=UTC:20220110T180000
DTEND;TZID=UTC:20220110T200000
DTSTAMP:20260424T213650
CREATED:20220104T151403Z
LAST-MODIFIED:20220104T153530Z
UID:2436-1641837600-1641844800@gbcministries.us
SUMMARY:Ladies Of Grace
DESCRIPTION:
URL:https://gbcministries.us/event/ladies-of-grace/
LOCATION:Grace Fellowship Center\, 518 Elm Avenue\, South Pittsburg\, TN\, 37380
END:VEVENT
BEGIN:VEVENT
DTSTART;TZID=UTC:20220112T183000
DTEND;TZID=UTC:20220112T193000
DTSTAMP:20260424T213650
CREATED:20220104T152842Z
LAST-MODIFIED:20220104T152842Z
UID:2438-1642012200-1642015800@gbcministries.us
SUMMARY:The GYM Mid-Week
DESCRIPTION:
URL:https://gbcministries.us/event/the-gym-mid-week-2/
LOCATION:Grace Baptist Church\, 518 Elm Avenue\, South Pittsburg\, TN\, 37380
END:VEVENT
BEGIN:VEVENT
DTSTART;TZID=UTC:20220117T180000
DTEND;TZID=UTC:20220117T200000
DTSTAMP:20260424T213650
CREATED:20220116T140939Z
LAST-MODIFIED:20220116T140939Z
UID:2448-1642442400-1642449600@gbcministries.us
SUMMARY:Ladies of Grace
DESCRIPTION:
URL:https://gbcministries.us/event/ladies-of-grace-2/
LOCATION:Grace Fellowship Center\, 518 Elm Avenue\, South Pittsburg\, TN\, 37380
END:VEVENT
BEGIN:VEVENT
DTSTART;TZID=UTC:20220119T183000
DTEND;TZID=UTC:20220119T193000
DTSTAMP:20260424T213650
CREATED:20220104T154105Z
LAST-MODIFIED:20220104T154105Z
UID:2440-1642617000-1642620600@gbcministries.us
SUMMARY:The GYM Mid-Week
DESCRIPTION:
URL:https://gbcministries.us/event/the-gym-mid-week-3/
LOCATION:Grace Baptist Church\, 518 Elm Avenue\, South Pittsburg\, TN\, 37380
END:VEVENT
BEGIN:VEVENT
DTSTART;TZID=UTC:20220126T183000
DTEND;TZID=UTC:20220126T193000
DTSTAMP:20260424T213650
CREATED:20220104T154302Z
LAST-MODIFIED:20220104T154302Z
UID:2442-1643221800-1643225400@gbcministries.us
SUMMARY:The GYM Mid-Week
DESCRIPTION:
URL:https://gbcministries.us/event/the-gym-mid-week-4/
LOCATION:Grace Baptist Church\, 518 Elm Avenue\, South Pittsburg\, TN\, 37380
END:VEVENT
END:VCALENDAR