BEGIN:VCALENDAR
VERSION:2.0
PRODID:-//Grace Baptist Church - ECPv6.15.20//NONSGML v1.0//EN
CALSCALE:GREGORIAN
METHOD:PUBLISH
X-WR-CALNAME:Grace Baptist Church
X-ORIGINAL-URL:https://gbcministries.us
X-WR-CALDESC:Events for Grace Baptist Church
REFRESH-INTERVAL;VALUE=DURATION:PT1H
X-Robots-Tag:noindex
X-PUBLISHED-TTL:PT1H
BEGIN:VTIMEZONE
TZID:UTC
BEGIN:STANDARD
TZOFFSETFROM:+0000
TZOFFSETTO:+0000
TZNAME:UTC
DTSTART:20210101T000000
END:STANDARD
END:VTIMEZONE
BEGIN:VEVENT
DTSTART;TZID=UTC:20220214T180000
DTEND;TZID=UTC:20220214T200000
DTSTAMP:20260424T213732
CREATED:20220131T035830Z
LAST-MODIFIED:20220214T003815Z
UID:2470-1644861600-1644868800@gbcministries.us
SUMMARY:Ladies of Grace
DESCRIPTION:Ladies of Grace will meet Monday\,  February 14th\, 6:00pm at Rafael’s in Jasper\,TN.
URL:https://gbcministries.us/event/ladies-of-grace-3/
LOCATION:Huddle House\, 1200 TN-28\, Jasper\, TN\, 37347
END:VEVENT
END:VCALENDAR