BEGIN:VCALENDAR
VERSION:2.0
PRODID:-//Grace Baptist Church - ECPv6.15.20//NONSGML v1.0//EN
CALSCALE:GREGORIAN
METHOD:PUBLISH
X-WR-CALNAME:Grace Baptist Church
X-ORIGINAL-URL:https://gbcministries.us
X-WR-CALDESC:Events for Grace Baptist Church
REFRESH-INTERVAL;VALUE=DURATION:PT1H
X-Robots-Tag:noindex
X-PUBLISHED-TTL:PT1H
BEGIN:VTIMEZONE
TZID:UTC
BEGIN:STANDARD
TZOFFSETFROM:+0000
TZOFFSETTO:+0000
TZNAME:UTC
DTSTART:20210101T000000
END:STANDARD
END:VTIMEZONE
BEGIN:VEVENT
DTSTART;TZID=UTC:20220411T180000
DTEND;TZID=UTC:20220411T200000
DTSTAMP:20260424T170326
CREATED:20220316T031351Z
LAST-MODIFIED:20220316T031351Z
UID:2541-1649700000-1649707200@gbcministries.us
SUMMARY:Ladies of Grace
DESCRIPTION:The Ladies of Grace will be meeting at Top of the Rock at 6:00pm for April meeting.  If you need a ride up the mountain\, please contact Rita Foster.
URL:https://gbcministries.us/event/ladies-of-grace-5/
LOCATION:Top of the Rock
END:VEVENT
BEGIN:VEVENT
DTSTART;VALUE=DATE:20220416
DTEND;VALUE=DATE:20220417
DTSTAMP:20260424T170326
CREATED:20220316T030829Z
LAST-MODIFIED:20220316T031453Z
UID:2538-1650067200-1650153599@gbcministries.us
SUMMARY:Spring Picnic & Egg Hunt
DESCRIPTION:The Egg Hunt starts at 11:00 am with the church picnic immediately following.   Everyone is invited to attend.
URL:https://gbcministries.us/event/spring-picnic-egg-hunt/
LOCATION:Grace Baptist Church\, 518 Elm Avenue\, South Pittsburg\, TN\, 37380
END:VEVENT
END:VCALENDAR