BEGIN:VCALENDAR
VERSION:2.0
PRODID:-//Grace Baptist Church - ECPv6.15.20//NONSGML v1.0//EN
CALSCALE:GREGORIAN
METHOD:PUBLISH
X-WR-CALNAME:Grace Baptist Church
X-ORIGINAL-URL:https://gbcministries.us
X-WR-CALDESC:Events for Grace Baptist Church
REFRESH-INTERVAL;VALUE=DURATION:PT1H
X-Robots-Tag:noindex
X-PUBLISHED-TTL:PT1H
BEGIN:VTIMEZONE
TZID:UTC
BEGIN:STANDARD
TZOFFSETFROM:+0000
TZOFFSETTO:+0000
TZNAME:UTC
DTSTART:20210101T000000
END:STANDARD
END:VTIMEZONE
BEGIN:VEVENT
DTSTART;VALUE=DATE:20220821
DTEND;VALUE=DATE:20220822
DTSTAMP:20260424T101150
CREATED:20220814T163618Z
LAST-MODIFIED:20220814T163618Z
UID:2700-1661040000-1661126399@gbcministries.us
SUMMARY:HOMECOMING 2022
DESCRIPTION:Homecoming 2022 will be held August 21\, 2022. A buffet style meal will immediately follow the morning service.  Everyone is invited to join us in this celebration.
URL:https://gbcministries.us/event/homecoming-2022/
LOCATION:TN
END:VEVENT
END:VCALENDAR