BEGIN:VCALENDAR
VERSION:2.0
PRODID:-//Grace Baptist Church - ECPv6.15.20//NONSGML v1.0//EN
CALSCALE:GREGORIAN
METHOD:PUBLISH
X-WR-CALNAME:Grace Baptist Church
X-ORIGINAL-URL:https://gbcministries.us
X-WR-CALDESC:Events for Grace Baptist Church
REFRESH-INTERVAL;VALUE=DURATION:PT1H
X-Robots-Tag:noindex
X-PUBLISHED-TTL:PT1H
BEGIN:VTIMEZONE
TZID:UTC
BEGIN:STANDARD
TZOFFSETFROM:+0000
TZOFFSETTO:+0000
TZNAME:UTC
DTSTART:20210101T000000
END:STANDARD
END:VTIMEZONE
BEGIN:VEVENT
DTSTART;VALUE=DATE:20221002
DTEND;VALUE=DATE:20221003
DTSTAMP:20260424T081735
CREATED:20220928T165552Z
LAST-MODIFIED:20220928T165552Z
UID:2707-1664668800-1664755199@gbcministries.us
SUMMARY:Pastor Appreciation Sunday
DESCRIPTION:We will be celebrating Pastor Appreciation Sunday on October 2nd during the morning service.  Dinner to follow.
URL:https://gbcministries.us/event/pastor-appreciation-sunday/
LOCATION:Grace Baptist Church\, 518 Elm Avenue\, South Pittsburg\, TN\, 37380
END:VEVENT
END:VCALENDAR