BEGIN:VCALENDAR
VERSION:2.0
PRODID:-//Grace Baptist Church - ECPv6.15.20//NONSGML v1.0//EN
CALSCALE:GREGORIAN
METHOD:PUBLISH
X-ORIGINAL-URL:https://gbcministries.us
X-WR-CALDESC:Events for Grace Baptist Church
REFRESH-INTERVAL;VALUE=DURATION:PT1H
X-Robots-Tag:noindex
X-PUBLISHED-TTL:PT1H
BEGIN:VTIMEZONE
TZID:UTC
BEGIN:STANDARD
TZOFFSETFROM:+0000
TZOFFSETTO:+0000
TZNAME:UTC
DTSTART:20220101T000000
END:STANDARD
END:VTIMEZONE
BEGIN:VEVENT
DTSTART;TZID=UTC:20231217T120000
DTEND;TZID=UTC:20231217T120000
DTSTAMP:20260423T072853
CREATED:20231209T035433Z
LAST-MODIFIED:20231209T040839Z
UID:2789-1702814400-1702814400@gbcministries.us
SUMMARY:Christmas Dinner
DESCRIPTION:Grace Baptist Christmas Dinner will be held December 17th following the morning service.
URL:https://gbcministries.us/event/christmas-dinner/
LOCATION:Grace Baptist Church\, 518 Elm Avenue\, South Pittsburg\, TN\, 37380
END:VEVENT
END:VCALENDAR