BEGIN:VCALENDAR
VERSION:2.0
PRODID:-//Grace Baptist Church - ECPv6.15.20//NONSGML v1.0//EN
CALSCALE:GREGORIAN
METHOD:PUBLISH
X-WR-CALNAME:Grace Baptist Church
X-ORIGINAL-URL:https://gbcministries.us
X-WR-CALDESC:Events for Grace Baptist Church
REFRESH-INTERVAL;VALUE=DURATION:PT1H
X-Robots-Tag:noindex
X-PUBLISHED-TTL:PT1H
BEGIN:VTIMEZONE
TZID:UTC
BEGIN:STANDARD
TZOFFSETFROM:+0000
TZOFFSETTO:+0000
TZNAME:UTC
DTSTART:20230101T000000
END:STANDARD
END:VTIMEZONE
BEGIN:VEVENT
DTSTART;VALUE=DATE:20240825
DTEND;VALUE=DATE:20240826
DTSTAMP:20260422T160926
CREATED:20230731T021737Z
LAST-MODIFIED:20240109T033806Z
UID:2780-1724544000-1724630399@gbcministries.us
SUMMARY:Homecoming
DESCRIPTION:Homecoming 54 will be held Sunday\, August 25th.  Dinner to follow morning worship.
URL:https://gbcministries.us/event/homecoming/
LOCATION:Grace Baptist Church\, 518 Elm Avenue\, South Pittsburg\, TN\, 37380
END:VEVENT
BEGIN:VEVENT
DTSTART;TZID=UTC:20240828T180000
DTEND;TZID=UTC:20240828T190000
DTSTAMP:20260422T160926
CREATED:20240818T030033Z
LAST-MODIFIED:20240818T030033Z
UID:2853-1724868000-1724871600@gbcministries.us
SUMMARY:TEAM NIGHT
DESCRIPTION:All youth invited to Team Night at 6:00pm.  Wear your favorite team’s colors.
URL:https://gbcministries.us/event/team-night/
LOCATION:Grace Fellowship Center\, 518 Elm Avenue\, South Pittsburg\, TN\, 37380
END:VEVENT
END:VCALENDAR