BEGIN:VCALENDAR
VERSION:2.0
PRODID:-//Grace Baptist Church - ECPv6.15.20//NONSGML v1.0//EN
CALSCALE:GREGORIAN
METHOD:PUBLISH
X-ORIGINAL-URL:https://gbcministries.us
X-WR-CALDESC:Events for Grace Baptist Church
REFRESH-INTERVAL;VALUE=DURATION:PT1H
X-Robots-Tag:noindex
X-PUBLISHED-TTL:PT1H
BEGIN:VTIMEZONE
TZID:UTC
BEGIN:STANDARD
TZOFFSETFROM:+0000
TZOFFSETTO:+0000
TZNAME:UTC
DTSTART:20240101T000000
END:STANDARD
END:VTIMEZONE
BEGIN:VEVENT
DTSTART;VALUE=DATE:20250315
DTEND;VALUE=DATE:20250316
DTSTAMP:20260422T061955
CREATED:20250118T010537Z
LAST-MODIFIED:20250118T162211Z
UID:2992-1741996800-1742083199@gbcministries.us
SUMMARY:LADIES AMISH TRIP
DESCRIPTION:Ladies of Grace will be sponsoring a trip to Amish Country\, March 15\, 2025.
URL:https://gbcministries.us/event/ladies-amish-trip/
LOCATION:TN
END:VEVENT
END:VCALENDAR