BEGIN:VCALENDAR
VERSION:2.0
PRODID:-//Grace Baptist Church - ECPv6.15.20//NONSGML v1.0//EN
CALSCALE:GREGORIAN
METHOD:PUBLISH
X-ORIGINAL-URL:https://gbcministries.us
X-WR-CALDESC:Events for Grace Baptist Church
REFRESH-INTERVAL;VALUE=DURATION:PT1H
X-Robots-Tag:noindex
X-PUBLISHED-TTL:PT1H
BEGIN:VTIMEZONE
TZID:UTC
BEGIN:STANDARD
TZOFFSETFROM:+0000
TZOFFSETTO:+0000
TZNAME:UTC
DTSTART:20240101T000000
END:STANDARD
END:VTIMEZONE
BEGIN:VEVENT
DTSTART;TZID=UTC:20250412T110000
DTEND;TZID=UTC:20250412T130000
DTSTAMP:20260422T030423
CREATED:20250118T011116Z
LAST-MODIFIED:20250118T011116Z
UID:2994-1744455600-1744462800@gbcministries.us
SUMMARY:SPRING PICNIC & EGG HUNT
DESCRIPTION:Grace Baptist Church will be having our annual Spring Picnic and Egg Hunt.  The event will take place on April 12\, 2025 at 11:00am.
URL:https://gbcministries.us/event/spring-picnic-egg-hunt-2/
LOCATION:Grace Baptist Church\, 518 Elm Avenue\, South Pittsburg\, TN\, 37380
END:VEVENT
BEGIN:VEVENT
DTSTART;TZID=UTC:20250414T180000
DTEND;TZID=UTC:20250414T200000
DTSTAMP:20260422T030423
CREATED:20250118T011514Z
LAST-MODIFIED:20250118T011514Z
UID:2997-1744653600-1744660800@gbcministries.us
SUMMARY:LADIES MEETING
DESCRIPTION:Ladies of Grace will have monthly meeting on April 14\, 2025 at 6:00pm.   Group A will provide devotional and food.
URL:https://gbcministries.us/event/ladies-meeting-5/
LOCATION:Grace Fellowship Center\, 518 Elm Avenue\, South Pittsburg\, TN\, 37380
END:VEVENT
BEGIN:VEVENT
DTSTART;TZID=UTC:20250427T140000
DTEND;TZID=UTC:20250427T153000
DTSTAMP:20260422T030423
CREATED:20250118T005645Z
LAST-MODIFIED:20250118T005645Z
UID:2985-1745762400-1745767800@gbcministries.us
SUMMARY:NURSING HOME VISIT
DESCRIPTION:Grace Baptist will visit the nursing home on April 27\, 2025 at 2:00pm.  All members welcome to visit.
URL:https://gbcministries.us/event/nursing-home-visit-6/
LOCATION:TN
END:VEVENT
END:VCALENDAR