BEGIN:VCALENDAR
VERSION:2.0
PRODID:-//Grace Baptist Church - ECPv6.15.20//NONSGML v1.0//EN
CALSCALE:GREGORIAN
METHOD:PUBLISH
X-ORIGINAL-URL:https://gbcministries.us
X-WR-CALDESC:Events for Grace Baptist Church
REFRESH-INTERVAL;VALUE=DURATION:PT1H
X-Robots-Tag:noindex
X-PUBLISHED-TTL:PT1H
BEGIN:VTIMEZONE
TZID:UTC
BEGIN:STANDARD
TZOFFSETFROM:+0000
TZOFFSETTO:+0000
TZNAME:UTC
DTSTART:20240101T000000
END:STANDARD
END:VTIMEZONE
BEGIN:VEVENT
DTSTART;TZID=UTC:20250804T180000
DTEND;TZID=UTC:20250804T190000
DTSTAMP:20260421T220820
CREATED:20250610T043226Z
LAST-MODIFIED:20250727T025645Z
UID:3223-1754330400-1754334000@gbcministries.us
SUMMARY:BROTHER’S OF GRACE BIBLE STUDY
DESCRIPTION:All men are invited to join in a time of Bible Study the 1st Monday of each month from 6:00pm to 7:00pm.
URL:https://gbcministries.us/event/brothers-bible-study-2/
LOCATION:Grace Fellowship Center\, 518 Elm Avenue\, South Pittsburg\, TN\, 37380
END:VEVENT
END:VCALENDAR