BEGIN:VCALENDAR
VERSION:2.0
PRODID:-//Grace Baptist Church - ECPv6.15.20//NONSGML v1.0//EN
CALSCALE:GREGORIAN
METHOD:PUBLISH
X-ORIGINAL-URL:https://gbcministries.us
X-WR-CALDESC:Events for Grace Baptist Church
REFRESH-INTERVAL;VALUE=DURATION:PT1H
X-Robots-Tag:noindex
X-PUBLISHED-TTL:PT1H
BEGIN:VTIMEZONE
TZID:UTC
BEGIN:STANDARD
TZOFFSETFROM:+0000
TZOFFSETTO:+0000
TZNAME:UTC
DTSTART:20240101T000000
END:STANDARD
END:VTIMEZONE
BEGIN:VEVENT
DTSTART;TZID=UTC:20250809T080000
DTEND;TZID=UTC:20250809T090000
DTSTAMP:20260421T220856
CREATED:20250727T030128Z
LAST-MODIFIED:20250727T030128Z
UID:3302-1754726400-1754730000@gbcministries.us
SUMMARY:MEN’S BREAKFAST
DESCRIPTION:The Men of Grace will meet at Cracker Barrel on August 9\, 2025 at 8am for breakfast.  All men are invited to attend.
URL:https://gbcministries.us/event/mens-breakfast/
LOCATION:TN
ATTACH;FMTTYPE=image/png:https://gbcministries.us/wp-content/uploads/2025/07/cropped-BREAKFAST.png
END:VEVENT
END:VCALENDAR