BEGIN:VCALENDAR
VERSION:2.0
PRODID:-//Grace Baptist Church - ECPv6.15.20//NONSGML v1.0//EN
CALSCALE:GREGORIAN
METHOD:PUBLISH
X-ORIGINAL-URL:https://gbcministries.us
X-WR-CALDESC:Events for Grace Baptist Church
REFRESH-INTERVAL;VALUE=DURATION:PT1H
X-Robots-Tag:noindex
X-PUBLISHED-TTL:PT1H
BEGIN:VTIMEZONE
TZID:UTC
BEGIN:STANDARD
TZOFFSETFROM:+0000
TZOFFSETTO:+0000
TZNAME:UTC
DTSTART:20240101T000000
END:STANDARD
END:VTIMEZONE
BEGIN:VEVENT
DTSTART;TZID=UTC:20251005T110000
DTEND;TZID=UTC:20251005T130000
DTSTAMP:20260421T171752
CREATED:20250118T161330Z
LAST-MODIFIED:20250118T161330Z
UID:3024-1759662000-1759669200@gbcministries.us
SUMMARY:PASTOR APPRECIATION DAY
DESCRIPTION:Grace Baptist will be honoring our pastor on Sunday\, October 5\, 2025\, during the morning service with meal to follow.
URL:https://gbcministries.us/event/pastor-appreciation-day/
LOCATION:Grace Baptist Church\, 518 Elm Avenue\, South Pittsburg\, TN\, 37380
END:VEVENT
BEGIN:VEVENT
DTSTART;TZID=UTC:20251013T180000
DTEND;TZID=UTC:20251013T200000
DTSTAMP:20260421T171752
CREATED:20250118T154848Z
LAST-MODIFIED:20250118T154848Z
UID:3013-1760378400-1760385600@gbcministries.us
SUMMARY:LADIES MEETING
DESCRIPTION:Ladies of Grace will have monthly meeting on Monday\, October 13\, 2025 at 6:00pm.   Group A will provide devotional and food.
URL:https://gbcministries.us/event/ladies-meeting-11/
LOCATION:Grace Fellowship Center\, 518 Elm Avenue\, South Pittsburg\, TN\, 37380
END:VEVENT
BEGIN:VEVENT
DTSTART;TZID=UTC:20251022T190000
DTEND;TZID=UTC:20251022T210000
DTSTAMP:20260421T171752
CREATED:20251020T013817Z
LAST-MODIFIED:20251020T013817Z
UID:3322-1761159600-1761166800@gbcministries.us
SUMMARY:YOUTH OUTING
DESCRIPTION:The Youth of Grace Baptist will meet at the home of Keith and Meshone Layne at 7:00pm for refreshments.  We will then travel to Jasper First Baptist to attend the judgement house at 8:00pm.
URL:https://gbcministries.us/event/youth-outing/
LOCATION:Jasper First Baptist
END:VEVENT
BEGIN:VEVENT
DTSTART;TZID=UTC:20251029T180000
DTEND;TZID=UTC:20251029T190000
DTSTAMP:20260421T171752
CREATED:20250118T161551Z
LAST-MODIFIED:20251020T012414Z
UID:3026-1761760800-1761764400@gbcministries.us
SUMMARY:TRUNK OR TREAT
DESCRIPTION:We will be having a community wide Trunk or Treat on Wednesday\, October 29th\, starting at pm.6:00pm.  Everyone is invited to attend.
URL:https://gbcministries.us/event/fall-festival/
LOCATION:Grace Fellowship Center\, 518 Elm Avenue\, South Pittsburg\, TN\, 37380
END:VEVENT
END:VCALENDAR