BEGIN:VCALENDAR
VERSION:2.0
PRODID:-//Grace Baptist Church - ECPv6.15.20//NONSGML v1.0//EN
CALSCALE:GREGORIAN
METHOD:PUBLISH
X-ORIGINAL-URL:https://gbcministries.us
X-WR-CALDESC:Events for Grace Baptist Church
REFRESH-INTERVAL;VALUE=DURATION:PT1H
X-Robots-Tag:noindex
X-PUBLISHED-TTL:PT1H
BEGIN:VTIMEZONE
TZID:UTC
BEGIN:STANDARD
TZOFFSETFROM:+0000
TZOFFSETTO:+0000
TZNAME:UTC
DTSTART:20240101T000000
END:STANDARD
END:VTIMEZONE
BEGIN:VEVENT
DTSTART;TZID=UTC:20251116T120000
DTEND;TZID=UTC:20251116T140000
DTSTAMP:20260421T171849
CREATED:20250118T160756Z
LAST-MODIFIED:20251020T020606Z
UID:3022-1763294400-1763301600@gbcministries.us
SUMMARY:GRACE THANKSGIVING DINNER
DESCRIPTION:Grace Baptist Thanksgiving Dinner will be Sunday\, November 16\, 2025\, immediately following the morning service.
URL:https://gbcministries.us/event/grace-thanksgiving-dinner/
LOCATION:Grace Fellowship Center\, 518 Elm Avenue\, South Pittsburg\, TN\, 37380
END:VEVENT
END:VCALENDAR