BEGIN:VCALENDAR
VERSION:2.0
PRODID:-//Grace Baptist Church - ECPv6.15.20//NONSGML v1.0//EN
CALSCALE:GREGORIAN
METHOD:PUBLISH
X-ORIGINAL-URL:https://gbcministries.us
X-WR-CALDESC:Events for Grace Baptist Church
REFRESH-INTERVAL;VALUE=DURATION:PT1H
X-Robots-Tag:noindex
X-PUBLISHED-TTL:PT1H
BEGIN:VTIMEZONE
TZID:UTC
BEGIN:STANDARD
TZOFFSETFROM:+0000
TZOFFSETTO:+0000
TZNAME:UTC
DTSTART:20240101T000000
END:STANDARD
END:VTIMEZONE
BEGIN:VEVENT
DTSTART;TZID=UTC:20251110T180000
DTEND;TZID=UTC:20251110T190000
DTSTAMP:20260421T153702
CREATED:20251020T013121Z
LAST-MODIFIED:20251109T043949Z
UID:3318-1762797600-1762801200@gbcministries.us
SUMMARY:MEN'S BIBLE STUDY
DESCRIPTION:The Men of Grace will meet at 6:00pm for monthly Bible study.
URL:https://gbcministries.us/event/mens-bible-study/
LOCATION:Grace Fellowship Center\, 518 Elm Avenue\, South Pittsburg\, TN\, 37380
END:VEVENT
BEGIN:VEVENT
DTSTART;TZID=UTC:20251110T180000
DTEND;TZID=UTC:20251110T200000
DTSTAMP:20260421T153702
CREATED:20250118T155126Z
LAST-MODIFIED:20251109T045309Z
UID:3016-1762797600-1762804800@gbcministries.us
SUMMARY:LADIES MEETING
DESCRIPTION:Ladies of Grace will have monthly meeting on Monday\, November 10\, 2025 at 6:00pm.   We will meet at Chencho’s in South Pittsburg.  Group B will provide devotional.
URL:https://gbcministries.us/event/ladies-meeting-12/
LOCATION:Chenco’s\, TN\, United States
END:VEVENT
BEGIN:VEVENT
DTSTART;TZID=UTC:20251116T120000
DTEND;TZID=UTC:20251116T140000
DTSTAMP:20260421T153702
CREATED:20250118T160756Z
LAST-MODIFIED:20251020T020606Z
UID:3022-1763294400-1763301600@gbcministries.us
SUMMARY:GRACE THANKSGIVING DINNER
DESCRIPTION:Grace Baptist Thanksgiving Dinner will be Sunday\, November 16\, 2025\, immediately following the morning service.
URL:https://gbcministries.us/event/grace-thanksgiving-dinner/
LOCATION:Grace Fellowship Center\, 518 Elm Avenue\, South Pittsburg\, TN\, 37380
END:VEVENT
BEGIN:VEVENT
DTSTART;VALUE=DATE:20251129
DTEND;VALUE=DATE:20251130
DTSTAMP:20260421T153702
CREATED:20251117T033506Z
LAST-MODIFIED:20251117T041450Z
UID:3404-1764374400-1764460799@gbcministries.us
SUMMARY:CHRISTMAS DECORATING
DESCRIPTION:Join us starting at 9:00am on November 29th as we prepare the church for the Christmas season.  Plenty of volunteers are needed as we decorate the main areas of the church as well as the fellowship center.  Also plan to bring your favorite soups\, sandwiches\, and desserts to share and enjoy.  If you have any questions\, please reach out to Jodi Myers\, Meshone Layne\, or Alvin Case.
URL:https://gbcministries.us/event/christmas-decorating-3/
LOCATION:Grace Baptist Church\, 518 Elm Avenue\, South Pittsburg\, TN\, 37380
ATTACH;FMTTYPE=image/png:https://gbcministries.us/wp-content/uploads/2025/11/4.png
END:VEVENT
BEGIN:VEVENT
DTSTART;TZID=UTC:20251130T160000
DTEND;TZID=UTC:20251130T170000
DTSTAMP:20260421T153702
CREATED:20251109T044538Z
LAST-MODIFIED:20251117T040911Z
UID:3364-1764518400-1764522000@gbcministries.us
SUMMARY:CHURCH IN THE BURG
DESCRIPTION:Grace Baptist Church Presents Worship and Sounds of the Season at the Tower Stage in downtown South Pittsburg at 4:00pm November 30th.  Hot Cocoa will also be served.
URL:https://gbcministries.us/event/church-in-the-burg/
LOCATION:Tower Stage\, 401 TN-27\, South Pittsburg\, TN\, 37380\, United States
ATTACH;FMTTYPE=image/jpeg:https://gbcministries.us/wp-content/uploads/2025/11/Church-in-the-Burg.jpg
END:VEVENT
END:VCALENDAR