BEGIN:VCALENDAR
VERSION:2.0
PRODID:-//Grace Baptist Church - ECPv6.15.20//NONSGML v1.0//EN
CALSCALE:GREGORIAN
METHOD:PUBLISH
X-WR-CALNAME:Grace Baptist Church
X-ORIGINAL-URL:https://gbcministries.us
X-WR-CALDESC:Events for Grace Baptist Church
REFRESH-INTERVAL;VALUE=DURATION:PT1H
X-Robots-Tag:noindex
X-PUBLISHED-TTL:PT1H
BEGIN:VTIMEZONE
TZID:UTC
BEGIN:STANDARD
TZOFFSETFROM:+0000
TZOFFSETTO:+0000
TZNAME:UTC
DTSTART:20250101T000000
END:STANDARD
END:VTIMEZONE
BEGIN:VEVENT
DTSTART;TZID=UTC:20260214T180000
DTEND;TZID=UTC:20260214T200000
DTSTAMP:20260421T101831
CREATED:20260113T182657Z
LAST-MODIFIED:20260113T183127Z
UID:3463-1771092000-1771099200@gbcministries.us
SUMMARY:VALENTINE'S BANQUET
DESCRIPTION:The Men of Grace will be hosting our annual Valentine’s Banquet on Saturday\, February 14th\, starting at 6:oopm.  The event will take place at Grace Fellowship Center.  Childcare will be provided by Candace Kilgore next door at Grace Learning Center.
URL:https://gbcministries.us/event/valentines-banquet-2/
LOCATION:Grace Fellowship Center\, 518 Elm Avenue\, South Pittsburg\, TN\, 37380
END:VEVENT
END:VCALENDAR