BEGIN:VCALENDAR
VERSION:2.0
PRODID:-//Grace Baptist Church - ECPv6.15.20//NONSGML v1.0//EN
CALSCALE:GREGORIAN
METHOD:PUBLISH
X-WR-CALNAME:Grace Baptist Church
X-ORIGINAL-URL:https://gbcministries.us
X-WR-CALDESC:Events for Grace Baptist Church
REFRESH-INTERVAL;VALUE=DURATION:PT1H
X-Robots-Tag:noindex
X-PUBLISHED-TTL:PT1H
BEGIN:VTIMEZONE
TZID:UTC
BEGIN:STANDARD
TZOFFSETFROM:+0000
TZOFFSETTO:+0000
TZNAME:UTC
DTSTART:20250101T000000
END:STANDARD
END:VTIMEZONE
BEGIN:VEVENT
DTSTART;TZID=UTC:20260406T180000
DTEND;TZID=UTC:20260406T190000
DTSTAMP:20260421T084955
CREATED:20251230T022514Z
LAST-MODIFIED:20260311T002418Z
UID:3440-1775498400-1775502000@gbcministries.us
SUMMARY:MEN'S BIBLE STUDY
DESCRIPTION:Brothers of Grace will meet April 6th for men’s Bible Study at 6:00pm.  All men are welcome to attend.
URL:https://gbcministries.us/event/mens-bible-study-3/
LOCATION:Grace Fellowship Center\, 518 Elm Avenue\, South Pittsburg\, TN\, 37380
END:VEVENT
END:VCALENDAR