BEGIN:VCALENDAR
VERSION:2.0
PRODID:-//Grace Baptist Church - ECPv6.15.20//NONSGML v1.0//EN
CALSCALE:GREGORIAN
METHOD:PUBLISH
X-WR-CALNAME:Grace Baptist Church
X-ORIGINAL-URL:https://gbcministries.us
X-WR-CALDESC:Events for Grace Baptist Church
REFRESH-INTERVAL;VALUE=DURATION:PT1H
X-Robots-Tag:noindex
X-PUBLISHED-TTL:PT1H
BEGIN:VTIMEZONE
TZID:UTC
BEGIN:STANDARD
TZOFFSETFROM:+0000
TZOFFSETTO:+0000
TZNAME:UTC
DTSTART:20250101T000000
END:STANDARD
END:VTIMEZONE
BEGIN:VEVENT
DTSTART;TZID=UTC:20260617T173000
DTEND;TZID=UTC:20260617T200000
DTSTAMP:20260421T113758
CREATED:20260311T004636Z
LAST-MODIFIED:20260412T232755Z
UID:3477-1781717400-1781726400@gbcministries.us
SUMMARY:VBS FRIENDS & FAMILY NIGHT
DESCRIPTION:Grace Baptist Church will be hosting Vacation Bible School Friends and Family Night.  We will be having food and fun following a brief presentation.
URL:https://gbcministries.us/event/friends-family-day-vbs-kickoff/
LOCATION:Grace Baptist Church\, 518 Elm Avenue\, South Pittsburg\, TN\, 37380
END:VEVENT
END:VCALENDAR