BEGIN:VCALENDAR
VERSION:2.0
PRODID:-//Grace Baptist Church - ECPv6.15.20//NONSGML v1.0//EN
CALSCALE:GREGORIAN
METHOD:PUBLISH
X-WR-CALNAME:Grace Baptist Church
X-ORIGINAL-URL:https://gbcministries.us
X-WR-CALDESC:Events for Grace Baptist Church
REFRESH-INTERVAL;VALUE=DURATION:PT1H
X-Robots-Tag:noindex
X-PUBLISHED-TTL:PT1H
BEGIN:VTIMEZONE
TZID:UTC
BEGIN:STANDARD
TZOFFSETFROM:+0000
TZOFFSETTO:+0000
TZNAME:UTC
DTSTART:20250101T000000
END:STANDARD
END:VTIMEZONE
BEGIN:VEVENT
DTSTART;VALUE=DATE:20260823
DTEND;VALUE=DATE:20260824
DTSTAMP:20260421T164156
CREATED:20260311T010455Z
LAST-MODIFIED:20260311T010455Z
UID:3482-1787443200-1787529599@gbcministries.us
SUMMARY:HOMECOMING
DESCRIPTION:Grace Baptist Church will be having its annual homecoming on Sunday\, August 23rd.  A meal will immediately follow the morning service.
URL:https://gbcministries.us/event/homecoming-2/
LOCATION:Grace Baptist Church\, 518 Elm Avenue\, South Pittsburg\, TN\, 37380
END:VEVENT
END:VCALENDAR