BEGIN:VCALENDAR
VERSION:2.0
PRODID:-//Grace Baptist Church - ECPv6.15.20//NONSGML v1.0//EN
CALSCALE:GREGORIAN
METHOD:PUBLISH
X-WR-CALNAME:Grace Baptist Church
X-ORIGINAL-URL:https://gbcministries.us
X-WR-CALDESC:Events for Grace Baptist Church
REFRESH-INTERVAL;VALUE=DURATION:PT1H
X-Robots-Tag:noindex
X-PUBLISHED-TTL:PT1H
BEGIN:VTIMEZONE
TZID:UTC
BEGIN:STANDARD
TZOFFSETFROM:+0000
TZOFFSETTO:+0000
TZNAME:UTC
DTSTART:20230101T000000
END:STANDARD
END:VTIMEZONE
BEGIN:VEVENT
DTSTART;TZID=UTC:20250811T180000
DTEND;TZID=UTC:20250811T200000
DTSTAMP:20260419T183309
CREATED:20250118T154347Z
LAST-MODIFIED:20250118T154347Z
UID:3009-1754935200-1754942400@gbcministries.us
SUMMARY:LADIES MEETING
DESCRIPTION:Ladies of Grace will have monthly meeting on Monday\, August 11\, 2025 at 6:00pm.   Group B will provide devotional and food.
URL:https://gbcministries.us/event/ladies-meeting-9/
LOCATION:Grace Fellowship Center\, 518 Elm Avenue\, South Pittsburg\, TN\, 37380
END:VEVENT
BEGIN:VEVENT
DTSTART;TZID=UTC:20250810T140000
DTEND;TZID=UTC:20250810T150000
DTSTAMP:20260419T183309
CREATED:20250727T030432Z
LAST-MODIFIED:20250727T030432Z
UID:3305-1754834400-1754838000@gbcministries.us
SUMMARY:NURSING HOME
DESCRIPTION:Grace Baptist will visit the nursing home on August 10\, 2025 at 2pm.
URL:https://gbcministries.us/event/nursing-home/
ATTACH;FMTTYPE=image/jpeg:https://gbcministries.us/wp-content/uploads/2025/07/cropped-IMG_0950.jpeg
END:VEVENT
BEGIN:VEVENT
DTSTART;TZID=UTC:20250809T080000
DTEND;TZID=UTC:20250809T090000
DTSTAMP:20260419T183309
CREATED:20250727T030128Z
LAST-MODIFIED:20250727T030128Z
UID:3302-1754726400-1754730000@gbcministries.us
SUMMARY:MEN’S BREAKFAST
DESCRIPTION:The Men of Grace will meet at Cracker Barrel on August 9\, 2025 at 8am for breakfast.  All men are invited to attend.
URL:https://gbcministries.us/event/mens-breakfast/
ATTACH;FMTTYPE=image/png:https://gbcministries.us/wp-content/uploads/2025/07/cropped-BREAKFAST.png
END:VEVENT
BEGIN:VEVENT
DTSTART;TZID=UTC:20250804T180000
DTEND;TZID=UTC:20250804T190000
DTSTAMP:20260419T183309
CREATED:20250610T043226Z
LAST-MODIFIED:20250727T025645Z
UID:3223-1754330400-1754334000@gbcministries.us
SUMMARY:BROTHER’S OF GRACE BIBLE STUDY
DESCRIPTION:All men are invited to join in a time of Bible Study the 1st Monday of each month from 6:00pm to 7:00pm.
URL:https://gbcministries.us/event/brothers-bible-study-2/
LOCATION:Grace Fellowship Center\, 518 Elm Avenue\, South Pittsburg\, TN\, 37380
END:VEVENT
BEGIN:VEVENT
DTSTART;TZID=UTC:20250714T180000
DTEND;TZID=UTC:20250714T200000
DTSTAMP:20260419T183309
CREATED:20250118T154102Z
LAST-MODIFIED:20250118T154102Z
UID:3007-1752516000-1752523200@gbcministries.us
SUMMARY:LADIES MEETING
DESCRIPTION:Ladies of Grace will have monthly meeting on Monday\, July 14\, 2025 at 6:00pm.   Group A will provide devotional and food.
URL:https://gbcministries.us/event/ladies-meeting-8/
LOCATION:Grace Fellowship Center\, 518 Elm Avenue\, South Pittsburg\, TN\, 37380
END:VEVENT
BEGIN:VEVENT
DTSTART;TZID=UTC:20250707T180000
DTEND;TZID=UTC:20250707T190000
DTSTAMP:20260419T183309
CREATED:20250610T042915Z
LAST-MODIFIED:20250610T042915Z
UID:3220-1751911200-1751914800@gbcministries.us
SUMMARY:Brother's Bible Study
DESCRIPTION:All men are invited to join together for a time of Bible Study the 1st Monday of each month from 6:00pm to 7:00pm in the fellowship center.
URL:https://gbcministries.us/event/brothers-bible-study/
LOCATION:Grace Fellowship Center\, 518 Elm Avenue\, South Pittsburg\, TN\, 37380
END:VEVENT
BEGIN:VEVENT
DTSTART;TZID=UTC:20250621T100000
DTEND;TZID=UTC:20250621T143000
DTSTAMP:20260419T183309
CREATED:20250429T011609Z
LAST-MODIFIED:20250509T175431Z
UID:3042-1750500000-1750516200@gbcministries.us
SUMMARY:Vacation Bible School 2025
DESCRIPTION:Join us for a VBS adventure “Under the Big Top”. Just like when we see an astonishing performance at the circus\, children will react with\, “Wow! Can you believe they just did that?” when they learn about some equally astonishing people from the Bible.\n\n\nVacation Bible School is Saturday\, June 21st from 10:00am to 2:30pm with food provided for the students.\n\n\nAll students and family are invited back on Sunday\, June 22nd for a special presentation during the morning worship service with food and activities to follow.
URL:https://gbcministries.us/event/vacation-bible-school-2025/
LOCATION:Grace Baptist Church\, 518 Elm Avenue\, South Pittsburg\, TN\, 37380
END:VEVENT
BEGIN:VEVENT
DTSTART;TZID=UTC:20250609T180000
DTEND;TZID=UTC:20250609T200000
DTSTAMP:20260419T183309
CREATED:20250118T153758Z
LAST-MODIFIED:20250118T153758Z
UID:3005-1749492000-1749499200@gbcministries.us
SUMMARY:LADIES MEETING
DESCRIPTION:Ladies of Grace will have monthly meeting on Monday\, June 9\, 2025 at 6:00pm.   Group C will provide devotional and food.
URL:https://gbcministries.us/event/ladies-meeting-7/
LOCATION:Grace Fellowship Center\, 518 Elm Avenue\, South Pittsburg\, TN\, 37380
END:VEVENT
BEGIN:VEVENT
DTSTART;TZID=UTC:20250518T140000
DTEND;TZID=UTC:20250518T153000
DTSTAMP:20260419T183309
CREATED:20250118T005838Z
LAST-MODIFIED:20250118T005838Z
UID:2987-1747576800-1747582200@gbcministries.us
SUMMARY:NURSING HOME VISIT
DESCRIPTION:Grace Baptist will visit the nursing home on May 18\, 2025 at 2:00pm.  All members welcome to visit.
URL:https://gbcministries.us/event/nursing-home-visit-7/
END:VEVENT
BEGIN:VEVENT
DTSTART;TZID=UTC:20250512T180000
DTEND;TZID=UTC:20250512T200000
DTSTAMP:20260419T183309
CREATED:20250118T153439Z
LAST-MODIFIED:20250118T153439Z
UID:3003-1747072800-1747080000@gbcministries.us
SUMMARY:LADIES MEETING
DESCRIPTION:Ladies of Grace will have monthly meeting on Monday May 12\, 2025 at 6:00pm.   Group B will provide devotional and food.
URL:https://gbcministries.us/event/ladies-meeting-6/
END:VEVENT
BEGIN:VEVENT
DTSTART;TZID=UTC:20250504T110000
DTEND;TZID=UTC:20250504T130000
DTSTAMP:20260419T183309
CREATED:20250118T153200Z
LAST-MODIFIED:20250118T153200Z
UID:3001-1746356400-1746363600@gbcministries.us
SUMMARY:SENIOR DAY-CLASS OF 2025
DESCRIPTION:Grace Baptist Church will be honoring the Class of 2025 during our morning service on Sunday\, May 04\, 2025.   A lunch is to follow.
URL:https://gbcministries.us/event/senior-day-class-of-2025/
LOCATION:Grace Baptist Church\, 518 Elm Avenue\, South Pittsburg\, TN\, 37380
END:VEVENT
BEGIN:VEVENT
DTSTART;TZID=UTC:20250427T140000
DTEND;TZID=UTC:20250427T153000
DTSTAMP:20260419T183309
CREATED:20250118T005645Z
LAST-MODIFIED:20250118T005645Z
UID:2985-1745762400-1745767800@gbcministries.us
SUMMARY:NURSING HOME VISIT
DESCRIPTION:Grace Baptist will visit the nursing home on April 27\, 2025 at 2:00pm.  All members welcome to visit.
URL:https://gbcministries.us/event/nursing-home-visit-6/
END:VEVENT
BEGIN:VEVENT
DTSTART;TZID=UTC:20250414T180000
DTEND;TZID=UTC:20250414T200000
DTSTAMP:20260419T183309
CREATED:20250118T011514Z
LAST-MODIFIED:20250118T011514Z
UID:2997-1744653600-1744660800@gbcministries.us
SUMMARY:LADIES MEETING
DESCRIPTION:Ladies of Grace will have monthly meeting on April 14\, 2025 at 6:00pm.   Group A will provide devotional and food.
URL:https://gbcministries.us/event/ladies-meeting-5/
LOCATION:Grace Fellowship Center\, 518 Elm Avenue\, South Pittsburg\, TN\, 37380
END:VEVENT
BEGIN:VEVENT
DTSTART;TZID=UTC:20250412T110000
DTEND;TZID=UTC:20250412T130000
DTSTAMP:20260419T183309
CREATED:20250118T011116Z
LAST-MODIFIED:20250118T011116Z
UID:2994-1744455600-1744462800@gbcministries.us
SUMMARY:SPRING PICNIC & EGG HUNT
DESCRIPTION:Grace Baptist Church will be having our annual Spring Picnic and Egg Hunt.  The event will take place on April 12\, 2025 at 11:00am.
URL:https://gbcministries.us/event/spring-picnic-egg-hunt-2/
LOCATION:Grace Baptist Church\, 518 Elm Avenue\, South Pittsburg\, TN\, 37380
END:VEVENT
BEGIN:VEVENT
DTSTART;TZID=UTC:20250316T140000
DTEND;TZID=UTC:20250316T153000
DTSTAMP:20260419T183309
CREATED:20250118T005340Z
LAST-MODIFIED:20250118T005340Z
UID:2983-1742133600-1742139000@gbcministries.us
SUMMARY:NURSING HOME VISIT
DESCRIPTION:Grace Baptist will visit the nursing home on March 16\, 2025 at 2:00pm.  All members welcome to visit.
URL:https://gbcministries.us/event/nursing-home-visit-5/
END:VEVENT
BEGIN:VEVENT
DTSTART;VALUE=DATE:20250315
DTEND;VALUE=DATE:20250316
DTSTAMP:20260419T183309
CREATED:20250118T010537Z
LAST-MODIFIED:20250118T162211Z
UID:2992-1741996800-1742083199@gbcministries.us
SUMMARY:LADIES AMISH TRIP
DESCRIPTION:Ladies of Grace will be sponsoring a trip to Amish Country\, March 15\, 2025.
URL:https://gbcministries.us/event/ladies-amish-trip/
END:VEVENT
BEGIN:VEVENT
DTSTART;TZID=UTC:20250310T180000
DTEND;TZID=UTC:20250310T200000
DTSTAMP:20260419T183309
CREATED:20250118T010400Z
LAST-MODIFIED:20250118T010400Z
UID:2990-1741629600-1741636800@gbcministries.us
SUMMARY:LADIES MEETING
DESCRIPTION:Ladies of Grace will have monthly meeting on March 10\, 2025 at 6:00pm.   Group C will provide devotional and food.
URL:https://gbcministries.us/event/ladies-meeting-4/
LOCATION:Grace Fellowship Center\, 518 Elm Avenue\, South Pittsburg\, TN\, 37380
END:VEVENT
BEGIN:VEVENT
DTSTART;TZID=UTC:20250216T140000
DTEND;TZID=UTC:20250216T153000
DTSTAMP:20260419T183309
CREATED:20250118T005049Z
LAST-MODIFIED:20250118T005124Z
UID:2981-1739714400-1739719800@gbcministries.us
SUMMARY:NURSING HOME VISIT
DESCRIPTION:Grace Baptist will visit the nursing home on February 16\, 2025 at 2:00pm.  All members welcome to visit.
URL:https://gbcministries.us/event/nursing-home-visit-4/
END:VEVENT
BEGIN:VEVENT
DTSTART;TZID=UTC:20250210T180000
DTEND;TZID=UTC:20250210T200000
DTSTAMP:20260419T183309
CREATED:20250118T004701Z
LAST-MODIFIED:20250118T004701Z
UID:2979-1739210400-1739217600@gbcministries.us
SUMMARY:LADIES MEETING
DESCRIPTION:Ladies of Grace will have monthly meeting on February 10\, 2025 at 6:00pm.   Group B will provide devotional and food.
URL:https://gbcministries.us/event/ladies-meeting-3/
LOCATION:Grace Fellowship Center\, 518 Elm Avenue\, South Pittsburg\, TN\, 37380
END:VEVENT
BEGIN:VEVENT
DTSTART;TZID=UTC:20250208T180000
DTEND;TZID=UTC:20250208T200000
DTSTAMP:20260419T183309
CREATED:20250120T145552Z
LAST-MODIFIED:20250120T145552Z
UID:3034-1739037600-1739044800@gbcministries.us
SUMMARY:VALENTINE'S BANQUET
DESCRIPTION:Grace Baptist will be hosting its annual Valentine’s Banquet on Saturday\, February 08\, 2025 at 6:00pm.  Everyone 18 yrs and up are invited to attend.
URL:https://gbcministries.us/event/valentines-banquet/
LOCATION:Grace Fellowship Center\, 518 Elm Avenue\, South Pittsburg\, TN\, 37380
END:VEVENT
BEGIN:VEVENT
DTSTART;TZID=UTC:20250119T140000
DTEND;TZID=UTC:20250119T153000
DTSTAMP:20260419T183309
CREATED:20250117T202047Z
LAST-MODIFIED:20250117T202047Z
UID:2977-1737295200-1737300600@gbcministries.us
SUMMARY:NURSING HOME VISIT
DESCRIPTION:Grace Baptist will visit the nursing home on January 19\, 2025 at 2:00pm.  All members welcome to vist.
URL:https://gbcministries.us/event/nursing-home-visit-3/
END:VEVENT
BEGIN:VEVENT
DTSTART;TZID=UTC:20250113T180000
DTEND;TZID=UTC:20250113T200000
DTSTAMP:20260419T183309
CREATED:20250104T194124Z
LAST-MODIFIED:20250104T194124Z
UID:2945-1736791200-1736798400@gbcministries.us
SUMMARY:LADIES MEETING
DESCRIPTION:Ladies of Grace Meeting Monday\, January 13th\, at 6:00pm.  All Ladies of the church are invited to attend. 
URL:https://gbcministries.us/event/ladies-meeting-2/
LOCATION:Grace Fellowship Center\, 518 Elm Avenue\, South Pittsburg\, TN\, 37380
END:VEVENT
BEGIN:VEVENT
DTSTART;TZID=UTC:20241222T180000
DTEND;TZID=UTC:20241222T190000
DTSTAMP:20260419T183309
CREATED:20241217T004544Z
LAST-MODIFIED:20241217T004544Z
UID:2934-1734890400-1734894000@gbcministries.us
SUMMARY:Christmas Concert
DESCRIPTION:We will have a Christmas Concert featuring Grace Singers and Musicians on December 22nd starting at 6:00pm.
URL:https://gbcministries.us/event/christmas-concert/
LOCATION:Grace Baptist Church\, 518 Elm Avenue\, South Pittsburg\, TN\, 37380
END:VEVENT
BEGIN:VEVENT
DTSTART;VALUE=DATE:20241222
DTEND;VALUE=DATE:20241223
DTSTAMP:20260419T183309
CREATED:20241217T004254Z
LAST-MODIFIED:20241217T004254Z
UID:2932-1734825600-1734911999@gbcministries.us
SUMMARY:Christmas Lunch
DESCRIPTION:Christmas Lunch will take place on December 22\, 2024 immediately following the Sunday Morning Service.  This year we will have fiinger/snack foods.
URL:https://gbcministries.us/event/christmas-lunch/
LOCATION:Grace Baptist Church\, 518 Elm Avenue\, South Pittsburg\, TN\, 37380
END:VEVENT
BEGIN:VEVENT
DTSTART;TZID=UTC:20241218T180000
DTEND;TZID=UTC:20241218T190000
DTSTAMP:20260419T183309
CREATED:20241217T003902Z
LAST-MODIFIED:20241217T004022Z
UID:2929-1734544800-1734548400@gbcministries.us
SUMMARY:PJ's and Pancakes
DESCRIPTION:We will be having a party Wednesday night for our young people.  Pancakes will be served.  They may also wear their pajamas.
URL:https://gbcministries.us/event/pjs-and-pancakes/
LOCATION:Grace Fellowship Center\, 518 Elm Avenue\, South Pittsburg\, TN\, 37380
END:VEVENT
BEGIN:VEVENT
DTSTART;TZID=UTC:20241215T140000
DTEND;TZID=UTC:20241215T160000
DTSTAMP:20260419T183309
CREATED:20241126T003834Z
LAST-MODIFIED:20241126T003834Z
UID:2926-1734271200-1734278400@gbcministries.us
SUMMARY:Nursing Home Visit
DESCRIPTION:Nursing home visit will take place at 2:00pm.  The whole church is invited to attend and participate in the festivities that day.
URL:https://gbcministries.us/event/nursing-home-visit-2/
END:VEVENT
BEGIN:VEVENT
DTSTART;TZID=UTC:20241209T180000
DTEND;TZID=UTC:20241209T200000
DTSTAMP:20260419T183309
CREATED:20241126T003413Z
LAST-MODIFIED:20241126T003413Z
UID:2924-1733767200-1733774400@gbcministries.us
SUMMARY:Ladies Christmas Dinner
DESCRIPTION:The Ladies of Grace will be hosting their annual Christmas party at 6:00pm.  If you have any questions\, please contact Sharon Case.
URL:https://gbcministries.us/event/ladies-christmas-dinner/
LOCATION:Grace Fellowship Center\, 518 Elm Avenue\, South Pittsburg\, TN\, 37380
END:VEVENT
BEGIN:VEVENT
DTSTART;TZID=UTC:20241130T090000
DTEND;TZID=UTC:20241130T120000
DTSTAMP:20260419T183309
CREATED:20241126T003132Z
LAST-MODIFIED:20241126T003132Z
UID:2922-1732957200-1732968000@gbcministries.us
SUMMARY:Christmas Decorating
DESCRIPTION:We will be decorating the church for Christmas starting at 9:00am.  Please bring finger foods for light lunch and fellowship.
URL:https://gbcministries.us/event/christmas-decorating-2/
LOCATION:Grace Baptist Church\, 518 Elm Avenue\, South Pittsburg\, TN\, 37380
END:VEVENT
BEGIN:VEVENT
DTSTART;TZID=UTC:20240909T180000
DTEND;TZID=UTC:20240909T200000
DTSTAMP:20260419T183309
CREATED:20240828T032408Z
LAST-MODIFIED:20240828T032409Z
UID:2909-1725904800-1725912000@gbcministries.us
SUMMARY:Ladies Meeting
DESCRIPTION:Ladies of Grace will meet September 9th at 6:00pm.
URL:https://gbcministries.us/event/ladies-meeting/
LOCATION:Grace Fellowship Center\, 518 Elm Avenue\, South Pittsburg\, TN\, 37380
END:VEVENT
BEGIN:VEVENT
DTSTART;TZID=UTC:20240901T100000
DTEND;TZID=UTC:20240901T110000
DTSTAMP:20260419T183309
CREATED:20240828T032240Z
LAST-MODIFIED:20240828T032544Z
UID:2907-1725184800-1725188400@gbcministries.us
SUMMARY:Promotion Sunday
DESCRIPTION:Youth will be promoted Sunday morning to classes corresponding with age/grade level.
URL:https://gbcministries.us/event/promotion-sunday/
LOCATION:Grace Baptist Church\, 518 Elm Avenue\, South Pittsburg\, TN\, 37380
END:VEVENT
END:VCALENDAR