BEGIN:VCALENDAR
VERSION:2.0
PRODID:-//Grace Baptist Church - ECPv6.15.20//NONSGML v1.0//EN
CALSCALE:GREGORIAN
METHOD:PUBLISH
X-WR-CALNAME:Grace Baptist Church
X-ORIGINAL-URL:https://gbcministries.us
X-WR-CALDESC:Events for Grace Baptist Church
REFRESH-INTERVAL;VALUE=DURATION:PT1H
X-Robots-Tag:noindex
X-PUBLISHED-TTL:PT1H
BEGIN:VTIMEZONE
TZID:UTC
BEGIN:STANDARD
TZOFFSETFROM:+0000
TZOFFSETTO:+0000
TZNAME:UTC
DTSTART:20210101T000000
END:STANDARD
END:VTIMEZONE
BEGIN:VEVENT
DTSTART;TZID=UTC:20241218T180000
DTEND;TZID=UTC:20241218T190000
DTSTAMP:20260419T221343
CREATED:20241217T003902Z
LAST-MODIFIED:20241217T004022Z
UID:2929-1734544800-1734548400@gbcministries.us
SUMMARY:PJ's and Pancakes
DESCRIPTION:We will be having a party Wednesday night for our young people.  Pancakes will be served.  They may also wear their pajamas.
URL:https://gbcministries.us/event/pjs-and-pancakes/
LOCATION:Grace Fellowship Center\, 518 Elm Avenue\, South Pittsburg\, TN\, 37380
END:VEVENT
BEGIN:VEVENT
DTSTART;TZID=UTC:20241215T140000
DTEND;TZID=UTC:20241215T160000
DTSTAMP:20260419T221343
CREATED:20241126T003834Z
LAST-MODIFIED:20241126T003834Z
UID:2926-1734271200-1734278400@gbcministries.us
SUMMARY:Nursing Home Visit
DESCRIPTION:Nursing home visit will take place at 2:00pm.  The whole church is invited to attend and participate in the festivities that day.
URL:https://gbcministries.us/event/nursing-home-visit-2/
END:VEVENT
BEGIN:VEVENT
DTSTART;TZID=UTC:20241209T180000
DTEND;TZID=UTC:20241209T200000
DTSTAMP:20260419T221343
CREATED:20241126T003413Z
LAST-MODIFIED:20241126T003413Z
UID:2924-1733767200-1733774400@gbcministries.us
SUMMARY:Ladies Christmas Dinner
DESCRIPTION:The Ladies of Grace will be hosting their annual Christmas party at 6:00pm.  If you have any questions\, please contact Sharon Case.
URL:https://gbcministries.us/event/ladies-christmas-dinner/
LOCATION:Grace Fellowship Center\, 518 Elm Avenue\, South Pittsburg\, TN\, 37380
END:VEVENT
BEGIN:VEVENT
DTSTART;TZID=UTC:20241130T090000
DTEND;TZID=UTC:20241130T120000
DTSTAMP:20260419T221343
CREATED:20241126T003132Z
LAST-MODIFIED:20241126T003132Z
UID:2922-1732957200-1732968000@gbcministries.us
SUMMARY:Christmas Decorating
DESCRIPTION:We will be decorating the church for Christmas starting at 9:00am.  Please bring finger foods for light lunch and fellowship.
URL:https://gbcministries.us/event/christmas-decorating-2/
LOCATION:Grace Baptist Church\, 518 Elm Avenue\, South Pittsburg\, TN\, 37380
END:VEVENT
BEGIN:VEVENT
DTSTART;TZID=UTC:20240909T180000
DTEND;TZID=UTC:20240909T200000
DTSTAMP:20260419T221343
CREATED:20240828T032408Z
LAST-MODIFIED:20240828T032409Z
UID:2909-1725904800-1725912000@gbcministries.us
SUMMARY:Ladies Meeting
DESCRIPTION:Ladies of Grace will meet September 9th at 6:00pm.
URL:https://gbcministries.us/event/ladies-meeting/
LOCATION:Grace Fellowship Center\, 518 Elm Avenue\, South Pittsburg\, TN\, 37380
END:VEVENT
BEGIN:VEVENT
DTSTART;TZID=UTC:20240901T100000
DTEND;TZID=UTC:20240901T110000
DTSTAMP:20260419T221343
CREATED:20240828T032240Z
LAST-MODIFIED:20240828T032544Z
UID:2907-1725184800-1725188400@gbcministries.us
SUMMARY:Promotion Sunday
DESCRIPTION:Youth will be promoted Sunday morning to classes corresponding with age/grade level.
URL:https://gbcministries.us/event/promotion-sunday/
LOCATION:Grace Baptist Church\, 518 Elm Avenue\, South Pittsburg\, TN\, 37380
END:VEVENT
BEGIN:VEVENT
DTSTART;TZID=UTC:20240828T180000
DTEND;TZID=UTC:20240828T190000
DTSTAMP:20260419T221343
CREATED:20240818T030033Z
LAST-MODIFIED:20240818T030033Z
UID:2853-1724868000-1724871600@gbcministries.us
SUMMARY:TEAM NIGHT
DESCRIPTION:All youth invited to Team Night at 6:00pm.  Wear your favorite team’s colors.
URL:https://gbcministries.us/event/team-night/
LOCATION:Grace Fellowship Center\, 518 Elm Avenue\, South Pittsburg\, TN\, 37380
END:VEVENT
BEGIN:VEVENT
DTSTART;VALUE=DATE:20240825
DTEND;VALUE=DATE:20240826
DTSTAMP:20260419T221343
CREATED:20230731T021737Z
LAST-MODIFIED:20240109T033806Z
UID:2780-1724544000-1724630399@gbcministries.us
SUMMARY:Homecoming
DESCRIPTION:Homecoming 54 will be held Sunday\, August 25th.  Dinner to follow morning worship.
URL:https://gbcministries.us/event/homecoming/
LOCATION:Grace Baptist Church\, 518 Elm Avenue\, South Pittsburg\, TN\, 37380
END:VEVENT
BEGIN:VEVENT
DTSTART;TZID=UTC:20240609T173000
DTEND;TZID=UTC:20240613T193000
DTSTAMP:20260419T221343
CREATED:20240423T234250Z
LAST-MODIFIED:20240423T234735Z
UID:2841-1717954200-1718307000@gbcministries.us
SUMMARY:Vacation Bible School
DESCRIPTION:
URL:https://gbcministries.us/event/vacation-bible-school-2/
LOCATION:Grace Baptist Church\, 518 Elm Avenue\, South Pittsburg\, TN\, 37380
END:VEVENT
BEGIN:VEVENT
DTSTART;VALUE=DATE:20240609
DTEND;VALUE=DATE:20240610
DTSTAMP:20260419T221343
CREATED:20240109T035508Z
LAST-MODIFIED:20240109T040409Z
UID:2812-1717891200-1717977599@gbcministries.us
SUMMARY:Friends & Family Day
DESCRIPTION:Friends & Family Day will be held on June 9th.  A meal will be served following the morning service.
URL:https://gbcministries.us/event/friends-family-day/
LOCATION:Grace Baptist Church\, 518 Elm Avenue\, South Pittsburg\, TN\, 37380
END:VEVENT
BEGIN:VEVENT
DTSTART;VALUE=DATE:20240505
DTEND;VALUE=DATE:20240506
DTSTAMP:20260419T221343
CREATED:20230409T230015Z
LAST-MODIFIED:20240109T035122Z
UID:2745-1714867200-1714953599@gbcministries.us
SUMMARY:Senior Night
DESCRIPTION:We will be honoring the graduating seniors of the Class of 2024 immediately following the Sunday Night service on May 5th.
URL:https://gbcministries.us/event/senior-night/
LOCATION:Grace Baptist Church\, 518 Elm Avenue\, South Pittsburg\, TN\, 37380
END:VEVENT
BEGIN:VEVENT
DTSTART;TZID=UTC:20240420T180000
DTEND;TZID=UTC:20240420T200000
DTSTAMP:20260419T221343
CREATED:20230327T002703Z
LAST-MODIFIED:20240109T035807Z
UID:2724-1713636000-1713643200@gbcministries.us
SUMMARY:Senior Saints
DESCRIPTION:Senior Saints will be held April 20th at 6:00pm
URL:https://gbcministries.us/event/senior-saints/
LOCATION:Grace Fellowship Center\, 518 Elm Avenue\, South Pittsburg\, TN\, 37380
END:VEVENT
BEGIN:VEVENT
DTSTART;TZID=UTC:20240323T110000
DTEND;TZID=UTC:20240323T130000
DTSTAMP:20260419T221343
CREATED:20230327T001636Z
LAST-MODIFIED:20240109T035903Z
UID:2718-1711191600-1711198800@gbcministries.us
SUMMARY:Spring Picnic and Egg Hunt
DESCRIPTION:Spring Picnic and Egg Hunt will be held March 23rd at 11:00 am.
URL:https://gbcministries.us/event/spring-picnic-and-egg-hunt/
LOCATION:Grace Baptist Church\, 518 Elm Avenue\, South Pittsburg\, TN\, 37380
END:VEVENT
BEGIN:VEVENT
DTSTART;TZID=UTC:20240212T180000
DTEND;TZID=UTC:20240212T200000
DTSTAMP:20260419T221343
CREATED:20230731T021443Z
LAST-MODIFIED:20240109T040333Z
UID:2778-1707760800-1707768000@gbcministries.us
SUMMARY:Ladies of Grace
DESCRIPTION:Ladies of Grace will meet Monday\, February 12th at 6:00pm in Grace Fellowship Hall.  All Ladies Invited to Attend.
URL:https://gbcministries.us/event/ladies-of-grace-10/
LOCATION:Grace Fellowship Center\, 518 Elm Avenue\, South Pittsburg\, TN\, 37380
END:VEVENT
BEGIN:VEVENT
DTSTART;TZID=UTC:20240210T180000
DTEND;TZID=UTC:20240210T200000
DTSTAMP:20260419T221343
CREATED:20220119T031502Z
LAST-MODIFIED:20240109T040108Z
UID:2455-1707588000-1707595200@gbcministries.us
SUMMARY:Valentine Banquet
DESCRIPTION:The Valentine’s Banquet will be held February 10th at 6:00pm in the Grace Fellowship Center.
URL:https://gbcministries.us/event/valentine-banquet/
LOCATION:Grace Fellowship Center\, 518 Elm Avenue\, South Pittsburg\, TN\, 37380
END:VEVENT
BEGIN:VEVENT
DTSTART;VALUE=DATE:20240121
DTEND;VALUE=DATE:20240122
DTSTAMP:20260419T221343
CREATED:20240109T034441Z
LAST-MODIFIED:20240109T034441Z
UID:2804-1705795200-1705881599@gbcministries.us
SUMMARY:Nursing Home Visit
DESCRIPTION:We will visit the local nursing home on January 21st.
URL:https://gbcministries.us/event/nursing-home-visit/
END:VEVENT
BEGIN:VEVENT
DTSTART;TZID=UTC:20231224T103000
DTEND;TZID=UTC:20231224T103000
DTSTAMP:20260419T221343
CREATED:20231209T040007Z
LAST-MODIFIED:20231209T040721Z
UID:2791-1703413800-1703413800@gbcministries.us
SUMMARY:Christmas Program
DESCRIPTION:Grace Baptist Christmas Program will take place December 24th starting at 10:30 am during the morning service.
URL:https://gbcministries.us/event/christmas-program/
END:VEVENT
BEGIN:VEVENT
DTSTART;TZID=UTC:20231221T173000
DTEND;TZID=UTC:20231221T173000
DTSTAMP:20260419T221343
CREATED:20231209T040348Z
LAST-MODIFIED:20231209T040544Z
UID:2793-1703179800-1703179800@gbcministries.us
SUMMARY:Mommy & Me
DESCRIPTION:Mommy & Me will meet Thursday\, December 21st at 5:30pm.  The children will be decorating cookies\, writing letters to Santa\, making Jesus a birthday card\, etc.
URL:https://gbcministries.us/event/mommy-me/
END:VEVENT
BEGIN:VEVENT
DTSTART;TZID=UTC:20231217T120000
DTEND;TZID=UTC:20231217T120000
DTSTAMP:20260419T221343
CREATED:20231209T035433Z
LAST-MODIFIED:20231209T040839Z
UID:2789-1702814400-1702814400@gbcministries.us
SUMMARY:Christmas Dinner
DESCRIPTION:Grace Baptist Christmas Dinner will be held December 17th following the morning service.
URL:https://gbcministries.us/event/christmas-dinner/
LOCATION:Grace Baptist Church\, 518 Elm Avenue\, South Pittsburg\, TN\, 37380
END:VEVENT
BEGIN:VEVENT
DTSTART;TZID=UTC:20231211T180000
DTEND;TZID=UTC:20231211T180000
DTSTAMP:20260419T221343
CREATED:20231209T034827Z
LAST-MODIFIED:20231209T034827Z
UID:2787-1702317600-1702317600@gbcministries.us
SUMMARY:Ladies Christmas Party
DESCRIPTION:The Ladies of Grace will have their annual Christmas party on December 11th starting at 6:00 pm.  If you would like to participate in the stocking exchange\, please bring your stocking along with 24 items to distribute among the other stockings.  All ladies are invited to attend.
URL:https://gbcministries.us/event/ladies-christmas-party/
LOCATION:Grace Fellowship Center\, 518 Elm Avenue\, South Pittsburg\, TN\, 37380
END:VEVENT
BEGIN:VEVENT
DTSTART;VALUE=DATE:20230805
DTEND;VALUE=DATE:20230806
DTSTAMP:20260419T221343
CREATED:20230731T021242Z
LAST-MODIFIED:20230731T021242Z
UID:2773-1691193600-1691279999@gbcministries.us
SUMMARY:Urban Air Trip
DESCRIPTION:6th Grade and Under Students will be traveling to Urban Air on August 5th 2023.  Meet at church at 8:30 am.
URL:https://gbcministries.us/event/urban-air-trip/
LOCATION:Urban Air\, 2020 Gunbarrel Road\, Suite 182\, Chattanooga\, Tennessee\, 37421
END:VEVENT
BEGIN:VEVENT
DTSTART;TZID=UTC:20230430T110000
DTEND;TZID=UTC:20230430T123000
DTSTAMP:20260419T221343
CREATED:20230416T045151Z
LAST-MODIFIED:20230423T033714Z
UID:2755-1682852400-1682857800@gbcministries.us
SUMMARY:5th Sunday Singing
DESCRIPTION:
URL:https://gbcministries.us/event/5th-sunday-night-singing/
LOCATION:Grace Baptist Church\, 518 Elm Avenue\, South Pittsburg\, TN\, 37380
END:VEVENT
BEGIN:VEVENT
DTSTART;TZID=UTC:20230410T180000
DTEND;TZID=UTC:20230410T200000
DTSTAMP:20260419T221343
CREATED:20230327T002524Z
LAST-MODIFIED:20230327T002524Z
UID:2721-1681149600-1681156800@gbcministries.us
SUMMARY:Ladies of Grace
DESCRIPTION:
URL:https://gbcministries.us/event/ladies-of-grace-9/
LOCATION:Grace Fellowship Center\, 518 Elm Avenue\, South Pittsburg\, TN\, 37380
END:VEVENT
BEGIN:VEVENT
DTSTART;VALUE=DATE:20221002
DTEND;VALUE=DATE:20221003
DTSTAMP:20260419T221343
CREATED:20220928T165552Z
LAST-MODIFIED:20220928T165552Z
UID:2707-1664668800-1664755199@gbcministries.us
SUMMARY:Pastor Appreciation Sunday
DESCRIPTION:We will be celebrating Pastor Appreciation Sunday on October 2nd during the morning service.  Dinner to follow.
URL:https://gbcministries.us/event/pastor-appreciation-sunday/
LOCATION:Grace Baptist Church\, 518 Elm Avenue\, South Pittsburg\, TN\, 37380
END:VEVENT
BEGIN:VEVENT
DTSTART;VALUE=DATE:20221001
DTEND;VALUE=DATE:20221002
DTSTAMP:20260419T221343
CREATED:20220928T164732Z
LAST-MODIFIED:20220928T164732Z
UID:2704-1664582400-1664668799@gbcministries.us
SUMMARY:Yard Sale and Bake Sale
DESCRIPTION:Grace Youth Ministry is sponsoring a yard and bake sale on Saturday\, October 1st starting at 8am.  Various household items and clothing are available.  Bake sale items include homemade biscuits and gravy\, macaroons\, brownies\, and cookies.
URL:https://gbcministries.us/event/yard-sale-and-bake-sale/
LOCATION:Grace Fellowship Center\, 518 Elm Avenue\, South Pittsburg\, TN\, 37380
END:VEVENT
BEGIN:VEVENT
DTSTART;VALUE=DATE:20220821
DTEND;VALUE=DATE:20220822
DTSTAMP:20260419T221343
CREATED:20220814T163618Z
LAST-MODIFIED:20220814T163618Z
UID:2700-1661040000-1661126399@gbcministries.us
SUMMARY:HOMECOMING 2022
DESCRIPTION:Homecoming 2022 will be held August 21\, 2022. A buffet style meal will immediately follow the morning service.  Everyone is invited to join us in this celebration.
URL:https://gbcministries.us/event/homecoming-2022/
END:VEVENT
BEGIN:VEVENT
DTSTART;VALUE=DATE:20220723
DTEND;VALUE=DATE:20220724
DTSTAMP:20260419T221343
CREATED:20220704T041113Z
LAST-MODIFIED:20220704T041113Z
UID:2686-1658534400-1658620799@gbcministries.us
SUMMARY:Youth Trip
DESCRIPTION:The youth will be traveling to Dollywood July 23rd.  See Keith Layne for details.
URL:https://gbcministries.us/event/youth-trip/
END:VEVENT
BEGIN:VEVENT
DTSTART;TZID=UTC:20220713T180000
DTEND;TZID=UTC:20220713T190000
DTSTAMP:20260419T221343
CREATED:20220704T040852Z
LAST-MODIFIED:20220704T040852Z
UID:2683-1657735200-1657738800@gbcministries.us
SUMMARY:S’Winter
DESCRIPTION:All youth are invited to join us in enjoying winter in summer.   Starts at 6:00 pm on Wednesday\, July 13th.
URL:https://gbcministries.us/event/swinter/
LOCATION:Grace Fellowship Center\, 518 Elm Avenue\, South Pittsburg\, TN\, 37380
END:VEVENT
BEGIN:VEVENT
DTSTART;TZID=UTC:20220711T180000
DTEND;TZID=UTC:20220711T180000
DTSTAMP:20260419T221343
CREATED:20220704T040534Z
LAST-MODIFIED:20220704T040534Z
UID:2680-1657562400-1657562400@gbcministries.us
SUMMARY:Ladies of Grace
DESCRIPTION:The Ladies will meet at Papa Ron’s at 6:00pm on Monday\, July 11\, 2022.  If any questions\, please contact Rita Foster.
URL:https://gbcministries.us/event/ladies-of-grace-8/
LOCATION:Papa Ron’s\, 402 W Main Street\, Monteagle\, TN\, United States
END:VEVENT
BEGIN:VEVENT
DTSTART;TZID=UTC:20220613T180000
DTEND;TZID=UTC:20220613T210000
DTSTAMP:20260419T221343
CREATED:20220518T012537Z
LAST-MODIFIED:20220518T012537Z
UID:2643-1655143200-1655154000@gbcministries.us
SUMMARY:LADIES OF GRACE
DESCRIPTION:
URL:https://gbcministries.us/event/ladies-of-grace-7/
END:VEVENT
END:VCALENDAR